BEGIN:VCALENDAR
VERSION:2.0
PRODID:-//eventon.com NONSGML v1.0//EN
BEGIN:VEVENT
UID:69e757617c54f
DTSTAMP:20260421T125425
DTSTART:20240928T073000Z
DTEND:20240928T140000Z
LOCATION:
SUMMARY:2024 / Wir begrüßen den Herbst bei Cafe Jörg Wolf in Feldbach\,  Hauptstraße 22
DESCRIPTION: 
END:VEVENT
END:VCALENDAR