BEGIN:VCALENDAR
VERSION:2.0
PRODID:-//eventon.com NONSGML v1.0//EN
BEGIN:VEVENT
UID:69e75777070f5
DTSTAMP:20260421T125447
DTSTART:20250726T180000Z
DTEND:20250725T220000Z
LOCATION:
SUMMARY:2025 / Dämmerschoppen Sportplatz Gralla-  Christa Fartek Family
DESCRIPTION: S Schlager\,  Country\,  Linedance und mehr....
END:VEVENT
END:VCALENDAR