BEGIN:VCALENDAR
VERSION:2.0
PRODID:-//eventon.com NONSGML v1.0//EN
BEGIN:VEVENT
UID:69e756be95ac4
DTSTAMP:20260421T125142
DTSTART:20241203T120000Z
DTEND:20241203T150000Z
LOCATION:
SUMMARY:2024 / Adventkaffee im Altkloster -Traditionelle Musik und Weihnachtslesung mit der Vulkanlanddichtergilde im Betreuten Wohnen in Feldbach / Benefiz (klick hier!)
DESCRIPTION: 
END:VEVENT
END:VCALENDAR