BEGIN:VCALENDAR
VERSION:2.0
PRODID:-//eventon.com NONSGML v1.0//EN
BEGIN:VEVENT
UID:69e7576090485
DTSTAMP:20260421T125424
DTSTART:20241123T153800Z
DTEND:20241123T200000Z
LOCATION:
SUMMARY:2024 / Weihnachtskonzert Christa Fartek beim Lipizzaner Franz´l (klick hier)
DESCRIPTION: 
END:VEVENT
END:VCALENDAR