BEGIN:VCALENDAR
VERSION:2.0
PRODID:-//eventon.com NONSGML v1.0//EN
BEGIN:VEVENT
UID:69e756adb03af
DTSTAMP:20260421T125125
DTSTART:20250524T150000Z
DTEND:20250524T193000Z
LOCATION:
SUMMARY:2025 / Country Abend mit Steak- Show & Live- Musik beim Weber Grill Seiersberg / Graz ( siehe Link)
DESCRIPTION: https://www.grillcenter-graz.at/.../6beb1a3e4c246a414ae91... &nbsp;
END:VEVENT
END:VCALENDAR