BEGIN:VCALENDAR
VERSION:2.0
PRODID:-//eventon.com NONSGML v1.0//EN
BEGIN:VEVENT
UID:69e7577550d67
DTSTAMP:20260421T125445
DTSTART:20250607T153000Z
DTEND:20250607T220000Z
LOCATION:
SUMMARY:2025 / Country\,  Schlager & Linedance beim Truckercamp beim Lipizzaner Franzl
DESCRIPTION: 
END:VEVENT
END:VCALENDAR