BEGIN:VCALENDAR
VERSION:2.0
PRODID:-//eventon.com NONSGML v1.0//EN
BEGIN:VEVENT
UID:69e757755e08c
DTSTAMP:20260421T125445
DTSTART:20250511T100000Z
DTEND:20250511T160000Z
LOCATION:
SUMMARY:2025 / Muttertagsgala beim Lipizzaner Franzl
DESCRIPTION: 2025 / Muttertagsgala beim Lipizzaner Franzl
END:VEVENT
END:VCALENDAR