BEGIN:VCALENDAR
VERSION:2.0
PRODID:-//eventon.com NONSGML v1.0//EN
BEGIN:VEVENT
UID:69e7570eb5ff6
DTSTAMP:20260421T125302
DTSTART:20241222T120000Z
DTEND:20241222T130000Z
LOCATION:
SUMMARY:Weihnachtsmarkt in Fürstenfeld mit Erich Frei! (Klick hier)
DESCRIPTION: 
END:VEVENT
END:VCALENDAR