BEGIN:VCALENDAR
VERSION:2.0
PRODID:-//eventon.com NONSGML v1.0//EN
BEGIN:VEVENT
UID:69e756be579ed
DTSTAMP:20260421T125142
DTSTART:20250117T180000Z
DTEND:20250117T210000Z
LOCATION:
SUMMARY:2025 / Tanzabend im Thermalhotel Fontana in Bad Radkersburg (klick hier)
DESCRIPTION: 
END:VEVENT
END:VCALENDAR