BEGIN:VCALENDAR
VERSION:2.0
PRODID:-//eventon.com NONSGML v1.0//EN
BEGIN:VEVENT
UID:69e7563da1367
DTSTAMP:20260421T124933
DTSTART:20250214T180000Z
DTEND:20250214T210000Z
LOCATION:
SUMMARY:2025 / Tanzabend im Thermalhotel Fontana in Bad Radkersburg ( klick hier!)
DESCRIPTION: 
END:VEVENT
END:VCALENDAR