BEGIN:VCALENDAR
VERSION:2.0
PRODID:-//eventon.com NONSGML v1.0//EN
BEGIN:VEVENT
UID:69e756beefc76
DTSTAMP:20260421T125142
DTSTART:20250321T180000Z
DTEND:20250321T210000Z
LOCATION:
SUMMARY:2025 / Tanzabend im Thermalhotel Fontana in Bad Radkersburg
DESCRIPTION: 2025 / Tanzabend im Thermalhotel Fontana in Bad Radkersburg
END:VEVENT
END:VCALENDAR