BEGIN:VCALENDAR
VERSION:2.0
PRODID:-//eventon.com NONSGML v1.0//EN
BEGIN:VEVENT
UID:69e756c70fb30
DTSTAMP:20260421T125151
DTSTART:20250528T220000Z
DTEND:20250528T220000Z
LOCATION:
SUMMARY:2025/ Auftritt bei der Musikreise nach VRASAR ins Resort Belvedere (Klick hier!)
DESCRIPTION: 
END:VEVENT
END:VCALENDAR