BEGIN:VCALENDAR
VERSION:2.0
PRODID:-//eventon.com NONSGML v1.0//EN
BEGIN:VEVENT
UID:69e755e0bc660
DTSTAMP:20260421T124800
DTSTART:20250303T120000Z
DTEND:20250303T150000Z
LOCATION:
SUMMARY:2025 / Rosenmontagsfeier im Betreuungsheim Neutillmitsch / LB
DESCRIPTION: 2025 / Rosenmontagsfeier im Betreuungsheim Neutillmitsch / LB
END:VEVENT
END:VCALENDAR