BEGIN:VCALENDAR
VERSION:2.0
PRODID:-//eventon.com NONSGML v1.0//EN
BEGIN:VEVENT
UID:69e7563cb1542
DTSTAMP:20260421T124932
DTSTART:20251129T150000Z
DTEND:20251129T210000Z
LOCATION:
SUMMARY:2025 / Weihnachtskonzert Christa Fartek
DESCRIPTION: 
END:VEVENT
END:VCALENDAR