BEGIN:VCALENDAR
VERSION:2.0
PRODID:-//eventon.com NONSGML v1.0//EN
BEGIN:VEVENT
UID:69e756632625c
DTSTAMP:20260421T125011
DTSTART:20250315T110000Z
DTEND:20250315T160000Z
LOCATION:
SUMMARY:2025 / Tanzmusik mit Christa Fartek & Robert F. im Gasthaus Amschl in Mühldorf bei Feldbach (klick hier!)
DESCRIPTION: 
END:VEVENT
END:VCALENDAR