BEGIN:VCALENDAR
VERSION:2.0
PRODID:-//eventon.com NONSGML v1.0//EN
BEGIN:VEVENT
UID:69e755f1bb44a
DTSTAMP:20260421T124817
DTSTART:20250304T070000Z
DTEND:20250304T110000Z
LOCATION:
SUMMARY:2025 / Fasching im Cafe Jörg Wolf Hauptplatz 22\,  8330 Feldbach
DESCRIPTION: 2025 / Fasching im Cafe Jörg Wolf Hauptplatz 22\,  8330 Feldbach
END:VEVENT
END:VCALENDAR