BEGIN:VCALENDAR
VERSION:2.0
PRODID:-//eventon.com NONSGML v1.0//EN
BEGIN:VEVENT
UID:69e756a67f391
DTSTAMP:20260421T125118
DTSTART:20250705T163000Z
DTEND:20250705T200000Z
LOCATION:
SUMMARY:2025 / Christa Fartek Country- Kindberger Kirtag / Hauptbühne Innenstadt / Rathausplatz
DESCRIPTION: 
END:VEVENT
END:VCALENDAR