BEGIN:VCALENDAR
VERSION:2.0
PRODID:-//eventon.com NONSGML v1.0//EN
BEGIN:VEVENT
UID:69e7570f9d480
DTSTAMP:20260421T125303
DTSTART:20250516T220000Z
DTEND:20250516T220000Z
LOCATION:
SUMMARY:2025 / Pflegeheim Übelbach Country Event
DESCRIPTION: 
END:VEVENT
END:VCALENDAR