BEGIN:VCALENDAR
VERSION:2.0
PRODID:-//eventon.com NONSGML v1.0//EN
BEGIN:VEVENT
UID:69e755fd8d688
DTSTAMP:20260421T124829
DTSTART:20250823T170000Z
DTEND:20250822T230000Z
LOCATION:
SUMMARY:2025 / Dämmerschoppen Klöch / Christa Fartek Family
DESCRIPTION: 
END:VEVENT
END:VCALENDAR