BEGIN:VCALENDAR
VERSION:2.0
PRODID:-//eventon.com NONSGML v1.0//EN
BEGIN:VEVENT
UID:69e756a6da220
DTSTAMP:20260421T125118
DTSTART:20251120T163000Z
DTEND:20251120T193000Z
LOCATION:
SUMMARY:2025 / Poesie & Musik im Schloss- Stüberl auf Schloss Kornberg im Rahmen der Weihnachtsausstellung
DESCRIPTION: Lesung und Musik im Rahmen der Weihnachtsausstellung im Schloss- Stüberl auf Schloss Kornberg Es erwartet sie ein Event in einem ritterlich eleganten Stüberl mit moderner und traditioneller Musik zum mitsingen.... Eintritt: Abendkasse : 12.-
END:VEVENT
END:VCALENDAR