BEGIN:VCALENDAR
VERSION:2.0
PRODID:-//eventon.com NONSGML v1.0//EN
BEGIN:VEVENT
UID:69e755f399226
DTSTAMP:20260421T124819
DTSTART:20251127T170000Z
DTEND:20251127T200000Z
LOCATION:
SUMMARY:2025 / Christa Fartek & Robert F. / Weihnachtslieder & Lesung der Vulkanlanddichtergilde
DESCRIPTION: 2025 / Christa Fartek & Robert F. / Weihnachtslieder & Lesung der Vulkanlanddichtergilde
END:VEVENT
END:VCALENDAR