BEGIN:VCALENDAR
VERSION:2.0
PRODID:-//eventon.com NONSGML v1.0//EN
BEGIN:VEVENT
UID:69e755e1270b2
DTSTAMP:20260421T124801
DTSTART:20250509T180000Z
DTEND:20250509T210000Z
LOCATION:
SUMMARY:2025 / Tanzabend im Thermalhotel Fontana in Bad Radkersburg
DESCRIPTION: 2025 / Tanzabend im Thermalhotel Fontana in Bad Radkersburg
END:VEVENT
END:VCALENDAR