BEGIN:VCALENDAR
VERSION:2.0
PRODID:-//eventon.com NONSGML v1.0//EN
BEGIN:VEVENT
UID:69e755a82ef98
DTSTAMP:20260421T124704
DTSTART:20260314T120000Z
DTEND:20260314T160000Z
LOCATION:
SUMMARY:2026 / Musik\,  Tanz und Poesie im Gasthaus Amschl in Mühldorf bei Feldbach ( klick hier!)
DESCRIPTION: 
END:VEVENT
END:VCALENDAR