BEGIN:VCALENDAR
VERSION:2.0
PRODID:-//eventon.com NONSGML v1.0//EN
BEGIN:VEVENT
UID:69e75657c55d2
DTSTAMP:20260421T124959
DTSTART:20250815T120000Z
DTEND:20250815T160000Z
LOCATION:
SUMMARY:2025 / Westerngrill beim Bacherlwirt
DESCRIPTION: Nähere INFOS folgen....
END:VEVENT
END:VCALENDAR