BEGIN:VCALENDAR
VERSION:2.0
PRODID:-//eventon.com NONSGML v1.0//EN
BEGIN:VEVENT
UID:69e756abd59b7
DTSTAMP:20260421T125123
DTSTART:20250724T163000Z
DTEND:20250724T193000Z
LOCATION:
SUMMARY:2025 / Geschlossene Veranstaltung
DESCRIPTION: 2025 / Geschlossene Veranstaltung
END:VEVENT
END:VCALENDAR