BEGIN:VCALENDAR
VERSION:2.0
PRODID:-//eventon.com NONSGML v1.0//EN
BEGIN:VEVENT
UID:69e73ebf8b90c
DTSTAMP:20260421T110919
DTSTART:20251218T130000Z
DTEND:20251218T150000Z
LOCATION:
SUMMARY:Weihnachtsfeier geschlossene Veranstaltung Klinikum
DESCRIPTION: Weihnachtsfeier geschlossene Veranstaltung Klinikum
END:VEVENT
END:VCALENDAR