BEGIN:VCALENDAR
VERSION:2.0
PRODID:-//eventon.com NONSGML v1.0//EN
BEGIN:VEVENT
UID:69e73e644a65e
DTSTAMP:20260421T110748
DTSTART:20251231T163000Z
DTEND:20251230T220000Z
LOCATION:
SUMMARY:2025 / Silvesterparty Geschlossene Veranstaltung
DESCRIPTION: 
END:VEVENT
END:VCALENDAR