BEGIN:VCALENDAR
VERSION:2.0
PRODID:-//eventon.com NONSGML v1.0//EN
BEGIN:VEVENT
UID:69e755a80c447
DTSTAMP:20260421T124704
DTSTART:20250510T163000Z
DTEND:20250510T200000Z
LOCATION:
SUMMARY:2025 / Ladies Night im Cafe Leyla in Vogau\,  Reichsstraße 113
DESCRIPTION: 
END:VEVENT
END:VCALENDAR