BEGIN:VCALENDAR
VERSION:2.0
PRODID:-//eventon.com NONSGML v1.0//EN
BEGIN:VEVENT
UID:69e7564b2bcb2
DTSTAMP:20260421T124947
DTSTART:20250601T100000Z
DTEND:20250601T160000Z
LOCATION:
SUMMARY:2025 / Geschlossene Veranstaltung Graz
DESCRIPTION: 2025 / Geschlossene Veranstaltung Graz
END:VEVENT
END:VCALENDAR