BEGIN:VCALENDAR
VERSION:2.0
PRODID:-//eventon.com NONSGML v1.0//EN
BEGIN:VEVENT
UID:69e755a906619
DTSTAMP:20260421T124705
DTSTART:20250918T160000Z
DTEND:20250918T190000Z
LOCATION:
SUMMARY:2025 / Geschlossene Veranstaltung
DESCRIPTION: 2025 / Geschlossene Veranstaltung
END:VEVENT
END:VCALENDAR