BEGIN:VCALENDAR
VERSION:2.0
PRODID:-//eventon.com NONSGML v1.0//EN
BEGIN:VEVENT
UID:69e755f389230
DTSTAMP:20260421T124819
DTSTART:20250905T220000Z
DTEND:20250905T220000Z
LOCATION:
SUMMARY:2025 / Steirer mit Herz – Dämmerschoppen
DESCRIPTION: 2025 / Steirer mit Herz – Dämmerschoppen
END:VEVENT
END:VCALENDAR