BEGIN:VCALENDAR
VERSION:2.0
PRODID:-//eventon.com NONSGML v1.0//EN
BEGIN:VEVENT
UID:69e755a80adb4
DTSTAMP:20260421T124704
DTSTART:20250909T220000Z
DTEND:20250909T220000Z
LOCATION:
SUMMARY:2025 / Geschlossene Veranstaltung
DESCRIPTION: 2025 / Geschlossene Veranstaltung
END:VEVENT
END:VCALENDAR