BEGIN:VCALENDAR
VERSION:2.0
PRODID:-//eventon.com NONSGML v1.0//EN
BEGIN:VEVENT
UID:69e755f1b329c
DTSTAMP:20260421T124817
DTSTART:20250810T130000Z
DTEND:20250810T170000Z
LOCATION:
SUMMARY:2025 / Reserviert Jennersdorf
DESCRIPTION: 2025 / Reserviert Jennersdorf
END:VEVENT
END:VCALENDAR