BEGIN:VCALENDAR
VERSION:2.0
PRODID:-//eventon.com NONSGML v1.0//EN
BEGIN:VEVENT
UID:69e755e00889b
DTSTAMP:20260421T124800
DTSTART:20250809T120000Z
DTEND:20250809T140000Z
LOCATION:
SUMMARY:2025 / Reserviert
DESCRIPTION: 2025 / Reserviert
END:VEVENT
END:VCALENDAR