BEGIN:VCALENDAR
VERSION:2.0
PRODID:-//eventon.com NONSGML v1.0//EN
BEGIN:VEVENT
UID:69e755fd805c3
DTSTAMP:20260421T124829
DTSTART:20250719T170000Z
DTEND:20250719T200000Z
LOCATION:
SUMMARY:2025 / Straßenfest in Eggenburg in Niederösterreich
DESCRIPTION: 
END:VEVENT
END:VCALENDAR