BEGIN:VCALENDAR
VERSION:2.0
PRODID:-//eventon.com NONSGML v1.0//EN
BEGIN:VEVENT
UID:69e75664afc67
DTSTAMP:20260421T125012
DTSTART:20250807T163000Z
DTEND:20250807T193000Z
LOCATION:
SUMMARY:2025 / Geschlossene Veranstaltung
DESCRIPTION: 2025 / Geschlossene Veranstaltung
END:VEVENT
END:VCALENDAR