BEGIN:VCALENDAR
VERSION:2.0
PRODID:-//eventon.com NONSGML v1.0//EN
BEGIN:VEVENT
UID:69e7571e861bb
DTSTAMP:20260421T125318
DTSTART:20251217T123000Z
DTEND:20251217T150000Z
LOCATION:
SUMMARY:2025 / Geschlossenene Veranstaltung Graz
DESCRIPTION: 2025 / Geschlossenene Veranstaltung Graz
END:VEVENT
END:VCALENDAR