BEGIN:VCALENDAR
VERSION:2.0
PRODID:-//eventon.com NONSGML v1.0//EN
BEGIN:VEVENT
UID:69e7564c69188
DTSTAMP:20260421T124948
DTSTART:20250606T143000Z
DTEND:20250605T220000Z
LOCATION:
SUMMARY:2026 / Country\,  Linedance & more
DESCRIPTION: Christa Fartek &  Robert F.  laden herzlichst ein zu diesem Feste! Musik: Christa Fartek\,  Robert F. Duo Amor & Wolfgang Gmoser
END:VEVENT
END:VCALENDAR