BEGIN:VCALENDAR
VERSION:2.0
PRODID:-//eventon.com NONSGML v1.0//EN
BEGIN:VEVENT
UID:69e756a55f171
DTSTAMP:20260421T125117
DTSTART:20261003T140000Z
DTEND:20261002T220000Z
LOCATION:
SUMMARY:2026 / Oktoberfest
DESCRIPTION: 2026 / Oktoberfest
END:VEVENT
END:VCALENDAR