BEGIN:VCALENDAR
VERSION:2.0
PRODID:-//eventon.com NONSGML v1.0//EN
BEGIN:VEVENT
UID:69e7570d3dabd
DTSTAMP:20260421T125301
DTSTART:20251211T120000Z
DTEND:20251211T160000Z
LOCATION:
SUMMARY:2025 / Geschlossene Veranstaltung Graz
DESCRIPTION: 2025 / Geschlossene Veranstaltung Graz
END:VEVENT
END:VCALENDAR