BEGIN:VCALENDAR
VERSION:2.0
PRODID:-//eventon.com NONSGML v1.0//EN
BEGIN:VEVENT
UID:69e7570800acd
DTSTAMP:20260421T125256
DTSTART:20250629T130000Z
DTEND:20250629T170000Z
LOCATION:
SUMMARY:2025 / Geschlossene Veranstaltung
DESCRIPTION: 2025 / Geschlossene Veranstaltung
END:VEVENT
END:VCALENDAR