BEGIN:VCALENDAR
VERSION:2.0
PRODID:-//eventon.com NONSGML v1.0//EN
BEGIN:VEVENT
UID:69e7571e3d851
DTSTAMP:20260421T125318
DTSTART:20260513T220000Z
DTEND:20260516T220000Z
LOCATION:
SUMMARY:2026 / Musikreise nach VRSAR Kroatien
DESCRIPTION: 
END:VEVENT
END:VCALENDAR