BEGIN:VCALENDAR
VERSION:2.0
PRODID:-//eventon.com NONSGML v1.0//EN
BEGIN:VEVENT
UID:69e755feb0ef4
DTSTAMP:20260421T124830
DTSTART:20251004T120000Z
DTEND:20251004T150000Z
LOCATION:
SUMMARY:2025 / XXXL Oktoberfest Euromarkt Kapfenberg im Cafe Lindthaler
DESCRIPTION: 
END:VEVENT
END:VCALENDAR