BEGIN:VCALENDAR
VERSION:2.0
PRODID:-//eventon.com NONSGML v1.0//EN
BEGIN:VEVENT
UID:69e7572031477
DTSTAMP:20260421T125320
DTSTART:20260606T150000Z
DTEND:20260605T220000Z
LOCATION:
SUMMARY:2026 / LIVE MUSIC EVENT Country\,  Schlager\,  Linedance & more...
DESCRIPTION: 
END:VEVENT
END:VCALENDAR