BEGIN:VCALENDAR
VERSION:2.0
PRODID:-//eventon.com NONSGML v1.0//EN
BEGIN:VEVENT
UID:69e755fd80665
DTSTAMP:20260421T124829
DTSTART:20251017T170000Z
DTEND:20251016T220000Z
LOCATION:
SUMMARY:2025 / Schlagernacht mit Biss- inkl. CD Präsentation von Manfred Fartek
DESCRIPTION: Schlagernacht mit Biss – inkl. Single-Präsentation! Am Freitag\,  17. Oktober verwandelt sich der Kultursaal Minihof-Liebau in eine Bühne voller Emotionen\,  guter Laune und Schlagermusik pur! Mit dabei: Manfred Fartek – präsentiert seine neue Single live Christa Fartek Duo Amor Robert F. Das erwartet euch: Begrüßungs-Aperitif 3-gängiges Genuss-Menü Gastgeschenk & Gewinnspiel[..]
END:VEVENT
END:VCALENDAR