BEGIN:VCALENDAR
VERSION:2.0
PRODID:-//eventon.com NONSGML v1.0//EN
BEGIN:VEVENT
UID:69e75760041bd
DTSTAMP:20260421T125424
DTSTART:20260718T150000Z
DTEND:20260718T210000Z
LOCATION:
SUMMARY:2026 / Straßenfest in Eggenburg / NÖ
DESCRIPTION: 2026 / Straßenfest in Eggenburg / NÖ
END:VEVENT
END:VCALENDAR