BEGIN:VCALENDAR
VERSION:2.0
PRODID:-//eventon.com NONSGML v1.0//EN
BEGIN:VEVENT
UID:69e7558d5ed5f
DTSTAMP:20260421T124637
DTSTART:20260509T130000Z
DTEND:20260508T220000Z
LOCATION:
SUMMARY:2026 / Schlagernacht in der Arena Feldbach (Zur Info bitte anklicken!)
DESCRIPTION: 
END:VEVENT
END:VCALENDAR