BEGIN:VCALENDAR
VERSION:2.0
PRODID:-//eventon.com NONSGML v1.0//EN
BEGIN:VEVENT
UID:69e757092e46d
DTSTAMP:20260421T125257
DTSTART:20251107T180000Z
DTEND:20251107T210000Z
LOCATION:
SUMMARY:2025 / Tanzabend im Thermalhotel Fontana
DESCRIPTION: 2025 / Tanzabend im Thermalhotel Fontana
END:VEVENT
END:VCALENDAR