BEGIN:VCALENDAR
VERSION:2.0
PRODID:-//eventon.com NONSGML v1.0//EN
BEGIN:VEVENT
UID:69e755f2a5bf8
DTSTAMP:20260421T124818
DTSTART:20251205T180000Z
DTEND:20251205T210000Z
LOCATION:
SUMMARY:2025 / Weihnachtskonzert im Thermalhotel Fontana in Bad Radkersburg mit anschließender Tanzmusik
DESCRIPTION: 2025 / Weihnachtskonzert im Thermalhotel Fontana in Bad Radkersburg mit anschließender Tanzmusik
END:VEVENT
END:VCALENDAR