BEGIN:VCALENDAR
VERSION:2.0
PRODID:-//eventon.com NONSGML v1.0//EN
BEGIN:VEVENT
UID:69e756be942eb
DTSTAMP:20260421T125142
DTSTART:20251227T180000Z
DTEND:20251227T210000Z
LOCATION:
SUMMARY:2025 / Tanzabend im Thermalhotel Fontana in Bad Radkersburg
DESCRIPTION: 2025 / Tanzabend im Thermalhotel Fontana in Bad Radkersburg
END:VEVENT
END:VCALENDAR